 BEGIN:VCALENDAR
VERSION:2.0
PRODID:-//ENZO - ECPv6.15.20//NONSGML v1.0//EN
CALSCALE:GREGORIAN
METHOD:PUBLISH
X-WR-CALNAME:ENZO
X-ORIGINAL-URL:https://enzo-itl.com
X-WR-CALDESC:Events for ENZO
REFRESH-INTERVAL;VALUE=DURATION:PT1H
X-Robots-Tag:noindex
X-PUBLISHED-TTL:PT1H
BEGIN:VTIMEZONE
TZID:America/New_York
BEGIN:DAYLIGHT
TZOFFSETFROM:-0500
TZOFFSETTO:-0400
TZNAME:EDT
DTSTART:20220313T070000
END:DAYLIGHT
BEGIN:STANDARD
TZOFFSETFROM:-0400
TZOFFSETTO:-0500
TZNAME:EST
DTSTART:20221106T060000
END:STANDARD
BEGIN:DAYLIGHT
TZOFFSETFROM:-0500
TZOFFSETTO:-0400
TZNAME:EDT
DTSTART:20230312T070000
END:DAYLIGHT
BEGIN:STANDARD
TZOFFSETFROM:-0400
TZOFFSETTO:-0500
TZNAME:EST
DTSTART:20231105T060000
END:STANDARD
BEGIN:DAYLIGHT
TZOFFSETFROM:-0500
TZOFFSETTO:-0400
TZNAME:EDT
DTSTART:20240310T070000
END:DAYLIGHT
BEGIN:STANDARD
TZOFFSETFROM:-0400
TZOFFSETTO:-0500
TZNAME:EST
DTSTART:20241103T060000
END:STANDARD
BEGIN:DAYLIGHT
TZOFFSETFROM:-0500
TZOFFSETTO:-0400
TZNAME:EDT
DTSTART:20250309T070000
END:DAYLIGHT
BEGIN:STANDARD
TZOFFSETFROM:-0400
TZOFFSETTO:-0500
TZNAME:EST
DTSTART:20251102T060000
END:STANDARD
BEGIN:DAYLIGHT
TZOFFSETFROM:-0500
TZOFFSETTO:-0400
TZNAME:EDT
DTSTART:20260308T070000
END:DAYLIGHT
BEGIN:STANDARD
TZOFFSETFROM:-0400
TZOFFSETTO:-0500
TZNAME:EST
DTSTART:20261101T060000
END:STANDARD
END:VTIMEZONE
BEGIN:VEVENT
DTSTART;TZID=America/New_York:20231231T110000
DTEND;TZID=America/New_York:20231231T150000
DTSTAMP:20260422T181822
CREATED:20231129T182736Z
LAST-MODIFIED:20240112T161241Z
UID:5800-1704020400-1704034800@enzo-itl.com
SUMMARY:New Year's Eve Brunch
DESCRIPTION:End 2023 on a delicious note with our decadent New Year’s Eve Brunch. \nFrom 11 a.m. to 3 p.m.\, enjoy a Chef Andrea’s holiday brunch buffet featuring an array of traditional and signature offerings including Italian French Toast\, Spinach & Ricotta Quiche\, and Fried Chicken & Waffle\, lunch favorites\, and more along with a make-your-own mimosa bar\, specialty and classic cocktails\, wine\, and craft beer.\nThe New Year’s Brunch Buffet is $39 per person. \nMake your reservation here.
URL:https://enzo-itl.com/experience/new-years-eve-brunch/
LOCATION:ENZO\, 300 Trilith Parkway\, Suite 230\, Fayetteville\, GA\, 30214\, United States
CATEGORIES:Holiday Bash
END:VEVENT
BEGIN:VEVENT
DTSTART;TZID=America/New_York:20231231T163000
DTEND;TZID=America/New_York:20240101T010000
DTSTAMP:20260422T181822
CREATED:20231129T183059Z
LAST-MODIFIED:20240112T161241Z
UID:5801-1704040200-1704070800@enzo-itl.com
SUMMARY:New Year's Eve Dinner
DESCRIPTION:End 2023 on a delicious note during our New Year’s Eve dinner and celebration! \nBeginning at 4:30 p.m.\, explore Chef Andrea Montobbio’s holiday menu boasting the most popular dishes from the year along with seasonal offerings\, holiday-inspired cocktails\, wine\, craft beers and more. Live music and plenty of surprises will keep the party going until the clock strikes midnight and we’ll toast to the New Year with a complimentary glass of Champagne. \nReservations are available here.
URL:https://enzo-itl.com/experience/new-years-eve-dinner/
LOCATION:ENZO\, 300 Trilith Parkway\, Suite 230\, Fayetteville\, GA\, 30214\, United States
CATEGORIES:Holiday Bash
END:VEVENT
BEGIN:VEVENT
DTSTART;VALUE=DATE:20241026
DTEND;VALUE=DATE:20241027
DTSTAMP:20260422T181822
CREATED:20241007T151916Z
LAST-MODIFIED:20241018T185556Z
UID:7408-1729900800-1729987199@enzo-itl.com
SUMMARY:Booze\, Beats and Spooky Treats
DESCRIPTION:Looking for a wickedly good time this Halloween? We're summoning all ghouls and goblins for an all-day Halloween bash on Saturday\, October 26th. \n \nTrick-or-treaters roaming the Town at Trilith are invited to stop by for candy\, bone-chilling cocktails\, and devilishly delicious specials starting at brunch\, 11 a.m. sharp. \n \nAs the night creeps in\, a high-energy DJ will take over the patio at 9 p.m.\, spinning spooky tunes until 11:30 p.m. Guests 21+ will enjoy a complimentary boo-zy treat\, along with plenty of surprise thrills throughout the night. The festive\, dog-friendly patio will be decked out in Halloween décor\, while the art-filled dining room and lively bar set the scene inside. Executive Chef Andrea's full dinner menu will be available for those daring enough to indulge. \n\nThe best part? The high-energy party beginning at 9 p.m. is free to attend by RSVPing below. \n \nReservations for Halloween brunch and dinner service can be made here.   
URL:https://enzo-itl.com/experience/booze-beats-and-spooky-treats/
LOCATION:ENZO\, 300 Trilith Parkway\, Suite 230\, Fayetteville\, GA\, 30214\, United States
CATEGORIES:Holiday Bash
ATTACH;FMTTYPE=image/jpeg:https://enzo-itl.com/wp-content/uploads/2024/10/Enzo-Halloween.jpeg
END:VEVENT
BEGIN:VEVENT
DTSTART;VALUE=DATE:20241224
DTEND;VALUE=DATE:20241225
DTSTAMP:20260422T181822
CREATED:20241209T232436Z
LAST-MODIFIED:20241210T235153Z
UID:7693-1734998400-1735084799@enzo-itl.com
SUMMARY:Christmas Eve at ENZO
DESCRIPTION:Make your Christmas Eve unforgettable at ENZO Steakhouse & Bar. Join us on Tuesday\, December 24th\, for a festive dining experience featuring the Italian tradition of the Feast of Seven Fishes. Curated by Executive Chef Andrea\, this multi-course celebration highlights the finest seafood dishes\, including orecchiette with clams\, lobster gnocchi\, steamed mussels\, and more. \nPrefer something beyond seafood? We’ll be offering hearty favorites like veal osso buco\, rack of lamb\, and rotisserie chicken\, ensuring everyone at the table has something to savor. Pair your meal with our signature boozy Eggnog and give back—$2 from every Eggnog sold will benefit our friends at Two Sparrows Village\, supporting adults with intellectual disabilities. \nReservations are available from 3:30 p.m. to 9:15 p.m. here.  \nDon’t miss the chance to create lasting memories with friends and family. Happy holidays!
URL:https://enzo-itl.com/experience/christmas-eve-at-enzo/
LOCATION:ENZO\, 300 Trilith Parkway\, Suite 230\, Fayetteville\, GA\, 30214\, United States
CATEGORIES:Holiday Bash,Special
ATTACH;FMTTYPE=image/jpeg:https://enzo-itl.com/wp-content/uploads/2024/12/ENZO-Christmas-Menu-2024-scaled.jpg
END:VEVENT
BEGIN:VEVENT
DTSTART;VALUE=DATE:20241231
DTEND;VALUE=DATE:20250101
DTSTAMP:20260422T181822
CREATED:20241216T200038Z
LAST-MODIFIED:20241216T200038Z
UID:7727-1735603200-1735689599@enzo-itl.com
SUMMARY:Welcome 2025 at ENZO
DESCRIPTION:Ciao\, 2024! Welcome the new year in style with us at ENZO on Tuesday\, December 31\, 2024. We’re setting the stage for an unforgettable New Year’s Eve celebration filled with exceptional food\, vibrant entertainment\, and joyful memories.\n\nWith reservations beginning at 5 p.m.\, indulge in a specially curated holiday menu by Executive Chef Andrea Montobbio\, showcasing seasonal delights and signature dishes. Raise a glass to the year ahead with handcrafted cocktails\, an impressive wine selection\, and craft beers. The evening will sparkle with live music by DJ Manny\, festive surprises\, and a dazzling Champagne toast at midnight.\n\nReservations now available at OpenTable.
URL:https://enzo-itl.com/experience/welcome-2025-at-enzo/
LOCATION:ENZO\, 300 Trilith Parkway\, Suite 230\, Fayetteville\, GA\, 30214\, United States
CATEGORIES:Holiday Bash,Special
ATTACH;FMTTYPE=image/jpeg:https://enzo-itl.com/wp-content/uploads/2024/12/ENZO-NYE-scaled.jpg
END:VEVENT
BEGIN:VEVENT
DTSTART;VALUE=DATE:20250210
DTEND;VALUE=DATE:20250217
DTSTAMP:20260422T181822
CREATED:20250103T173431Z
LAST-MODIFIED:20250212T163652Z
UID:7846-1739145600-1739750399@enzo-itl.com
SUMMARY:Love Is In the Air at ENZO!
DESCRIPTION:It’s love at first bite all week long at ENZO. From Monday\, February 10th to Sunday\, February 16th\, Chef Andrea invites you to experience the romance of Saint Valentine’s Day with a special dinner menu along with our tried-and-true signature and seasonal favorites. Whether you're sharing the evening with your significant other or enjoying the company of dear friends\, we promise an unforgettable dining experience that will make you swoon. Indulge in tantalizing shareables\, explore exquisite offerings from land and sea\, and cap off your meal with irresistible desserts. Our impressive wine\, beer\, and cocktail menu perfectly complements the occasion. \nTake a look at the menu here. \nMake your reservation here. \nStay connected with us on Facebook and Instagram at @enzoitl for updates.
URL:https://enzo-itl.com/experience/love-is-in-the-air-at-enzo-2/
LOCATION:ENZO\, 300 Trilith Parkway\, Suite 230\, Fayetteville\, GA\, 30214\, United States
CATEGORIES:Holiday Bash,Special
ATTACH;FMTTYPE=image/jpeg:https://enzo-itl.com/wp-content/uploads/2025/01/ENZO.jpeg
END:VEVENT
BEGIN:VEVENT
DTSTART;VALUE=DATE:20250420
DTEND;VALUE=DATE:20250421
DTSTAMP:20260422T181822
CREATED:20250205T144311Z
LAST-MODIFIED:20250304T231351Z
UID:8029-1745107200-1745193599@enzo-itl.com
SUMMARY:Eggs\, Eats and Easter Bunny Fun
DESCRIPTION:Easter Sunday is meant for gathering\, celebrating\, and indulging in a meal worth remembering—and we’re here to make it special. Join us on Sunday\, April 20\, from 11 a.m. to 3 p.m. for a festive brunch featuring seasonal flavors and a special visit from the Easter Bunny for fun photo ops.\n\nOur brunch menu is filled with both comforting favorites and a few indulgent surprises. Enjoy Lemon French Toast or our Smoked Salmon Flatbread for a light and flavorful start. Looking for something extra special? The Chicken & Waffle with pistachio gelato and maple syrup is a must-try\, while our Soft Scrambled Eggs with Truffle on sourdough crostini adds just the right touch of decadence. And if you’re craving something heartier\, the Steak & Egg with an 8oz hanger steak and Calabrian chimichurri is the perfect way to celebrate the holiday. \nTake in the spring sunshine on our dog-friendly patio or relax in our art-filled dining room while enjoying time with family and friends. And for those looking for a more laid-back Easter evening\, we’ll be serving dinner starting at 4:30 p.m. \nWe highly recommend making reservations for both Easter brunch and dinner to ensure your spot at the table. Visit OpenTable to book your table. \nWe look forward to celebrating with you!
URL:https://enzo-itl.com/experience/eggs-eats-and-easter-bunny-fun/
LOCATION:ENZO\, 300 Trilith Parkway\, Suite 230\, Fayetteville\, GA\, 30214\, United States
CATEGORIES:Holiday Bash
ATTACH;FMTTYPE=image/jpeg:https://enzo-itl.com/wp-content/uploads/2025/02/ENZO-Easter.jpg
END:VEVENT
BEGIN:VEVENT
DTSTART;TZID=America/New_York:20250805T170000
DTEND;TZID=America/New_York:20250805T170000
DTSTAMP:20260422T181822
CREATED:20250711T214356Z
LAST-MODIFIED:20250711T214459Z
UID:8536-1754413200-1754413200@enzo-itl.com
SUMMARY:Oysters & Bubbles National Oyster Day Party
DESCRIPTION:It’s patio-perfect season at ENZO\, and we’re marking National Oyster Day with an evening of oysters and refreshing spritzes. Join us on the patio on Tuesday\, August 5\, starting at 5 p.m.\, for Oysters & Bubbles\, a special one-night-only celebration featuring raw\, baked\, and fried oysters alongside our signature Italian Spritzes for just $12 a glass. \nOur full dinner and beverage menu will also be available\, and leashed pups are welcome to enjoy the evening with you. Reservations are recommended—book your table on OpenTable today!
URL:https://enzo-itl.com/experience/oysters-bubbles-national-oyster-day-party/
LOCATION:ENZO\, 300 Trilith Parkway\, Suite 230\, Fayetteville\, GA\, 30214\, United States
CATEGORIES:Holiday Bash
ATTACH;FMTTYPE=image/jpeg:https://enzo-itl.com/wp-content/uploads/2025/07/128-scaled.jpg
END:VEVENT
END:VCALENDAR