 BEGIN:VCALENDAR
VERSION:2.0
PRODID:-//ENZO - ECPv6.15.20//NONSGML v1.0//EN
CALSCALE:GREGORIAN
METHOD:PUBLISH
X-ORIGINAL-URL:https://enzo-itl.com
X-WR-CALDESC:Events for ENZO
REFRESH-INTERVAL;VALUE=DURATION:PT1H
X-Robots-Tag:noindex
X-PUBLISHED-TTL:PT1H
BEGIN:VTIMEZONE
TZID:America/New_York
BEGIN:DAYLIGHT
TZOFFSETFROM:-0500
TZOFFSETTO:-0400
TZNAME:EDT
DTSTART:20210314T070000
END:DAYLIGHT
BEGIN:STANDARD
TZOFFSETFROM:-0400
TZOFFSETTO:-0500
TZNAME:EST
DTSTART:20211107T060000
END:STANDARD
BEGIN:DAYLIGHT
TZOFFSETFROM:-0500
TZOFFSETTO:-0400
TZNAME:EDT
DTSTART:20220313T070000
END:DAYLIGHT
BEGIN:STANDARD
TZOFFSETFROM:-0400
TZOFFSETTO:-0500
TZNAME:EST
DTSTART:20221106T060000
END:STANDARD
BEGIN:DAYLIGHT
TZOFFSETFROM:-0500
TZOFFSETTO:-0400
TZNAME:EDT
DTSTART:20230312T070000
END:DAYLIGHT
BEGIN:STANDARD
TZOFFSETFROM:-0400
TZOFFSETTO:-0500
TZNAME:EST
DTSTART:20231105T060000
END:STANDARD
END:VTIMEZONE
BEGIN:VEVENT
DTSTART;VALUE=DATE:20220822
DTEND;VALUE=DATE:20220823
DTSTAMP:20260419T170238
CREATED:20220909T025210Z
LAST-MODIFIED:20220922T171040Z
UID:963-1661126400-1661212799@enzo-itl.com
SUMMARY:The Recording Academy Atlanta Chapter's Summer Members Party
DESCRIPTION:I could not have been happier or more satisfied with ENZO as our featured Culinary Partner for our most recent Summer GRAMMY Member Celebration! The food\, the service\, and their professionalism were simply outstanding! They were a joy to work with and could not have been more accommodating!!! I cannot wait to work with them again and frequent the new restaurant!! \n-- Michele Caplinger\, Senior Executive Director - The Recording Academy\, Atlanta.
URL:https://enzo-itl.com/experience/the-recording-academy-atlanta-chapters-summer-members-party/
LOCATION:GA
CATEGORIES:Past Event Highlight,Special
ATTACH;FMTTYPE=image/jpeg:https://enzo-itl.com/wp-content/uploads/2022/09/300989061_174775598417645_8434538432257159971_n.jpg
END:VEVENT
END:VCALENDAR