 BEGIN:VCALENDAR
VERSION:2.0
PRODID:-//ENZO - ECPv6.15.20//NONSGML v1.0//EN
CALSCALE:GREGORIAN
METHOD:PUBLISH
X-WR-CALNAME:ENZO
X-ORIGINAL-URL:https://enzo-itl.com
X-WR-CALDESC:Events for ENZO
REFRESH-INTERVAL;VALUE=DURATION:PT1H
X-Robots-Tag:noindex
X-PUBLISHED-TTL:PT1H
BEGIN:VTIMEZONE
TZID:America/New_York
BEGIN:DAYLIGHT
TZOFFSETFROM:-0500
TZOFFSETTO:-0400
TZNAME:EDT
DTSTART:20220313T070000
END:DAYLIGHT
BEGIN:STANDARD
TZOFFSETFROM:-0400
TZOFFSETTO:-0500
TZNAME:EST
DTSTART:20221106T060000
END:STANDARD
BEGIN:DAYLIGHT
TZOFFSETFROM:-0500
TZOFFSETTO:-0400
TZNAME:EDT
DTSTART:20230312T070000
END:DAYLIGHT
BEGIN:STANDARD
TZOFFSETFROM:-0400
TZOFFSETTO:-0500
TZNAME:EST
DTSTART:20231105T060000
END:STANDARD
BEGIN:DAYLIGHT
TZOFFSETFROM:-0500
TZOFFSETTO:-0400
TZNAME:EDT
DTSTART:20240310T070000
END:DAYLIGHT
BEGIN:STANDARD
TZOFFSETFROM:-0400
TZOFFSETTO:-0500
TZNAME:EST
DTSTART:20241103T060000
END:STANDARD
END:VTIMEZONE
BEGIN:VEVENT
DTSTART;TZID=America/New_York:20231014T140000
DTEND;TZID=America/New_York:20231014T190000
DTSTAMP:20260421T050955
CREATED:20230928T180838Z
LAST-MODIFIED:20240112T161242Z
UID:5459-1697292000-1697310000@enzo-itl.com
SUMMARY:Makers and Music Festival
DESCRIPTION:Gather your crew\, rally your squad\, and join us on our expansive dog-friendly patio for live music\, delicious eats and refreshing cocktails that'll make you say\, "Shuck Yeah!” \nDive into succulent\, raw oysters on the half shell or get them fried to crispy perfection or baked to melt-in-your-mouth goodness at just $2 a pop. \nSip on $10 spritzes and and enjoy the sound stylings of acclaimed singer-songwriter Kellye Huff.
URL:https://enzo-itl.com/experience/makers-and-music-festival/
LOCATION:ENZO\, 300 Trilith Parkway\, Suite 230\, Fayetteville\, GA\, 30214\, United States
CATEGORIES:Special
END:VEVENT
BEGIN:VEVENT
DTSTART;TZID=America/New_York:20231017T180000
DTEND;TZID=America/New_York:20231017T180000
DTSTAMP:20260421T050955
CREATED:20230901T215606Z
LAST-MODIFIED:20240112T161242Z
UID:5355-1697565600-1697565600@enzo-itl.com
SUMMARY:Pasta Making Class
DESCRIPTION:In honor of National Pasta Day on Tuesday\, October 17th\, we will be hosting a special Pasta Making Class led by Executive Chef Andrea Montobbio beginning at 6 p.m. \nOpen to all skill levels\, Chef Andrea will guide you through the art of making pasta from start to finish during a two-hour interactive and hands-on experience.  While sipping on wine and noshing on charcuterie and antipasti\, participants will create their own pasta dinner to enjoy that evening and make enough to have seconds to take home along with one of Chef Andrea’s fan favorite pasta sauces. \nTickets to ENZO's Pasta Making Class are $125 per person.
URL:https://enzo-itl.com/experience/pasta-making-class/
LOCATION:ENZO\, 300 Trilith Parkway\, Suite 230\, Fayetteville\, GA\, 30214\, United States
CATEGORIES:Special
END:VEVENT
END:VCALENDAR