 BEGIN:VCALENDAR
VERSION:2.0
PRODID:-//ENZO - ECPv6.15.20//NONSGML v1.0//EN
CALSCALE:GREGORIAN
METHOD:PUBLISH
X-ORIGINAL-URL:https://enzo-itl.com
X-WR-CALDESC:Events for ENZO
REFRESH-INTERVAL;VALUE=DURATION:PT1H
X-Robots-Tag:noindex
X-PUBLISHED-TTL:PT1H
BEGIN:VTIMEZONE
TZID:America/New_York
BEGIN:DAYLIGHT
TZOFFSETFROM:-0500
TZOFFSETTO:-0400
TZNAME:EDT
DTSTART:20230312T070000
END:DAYLIGHT
BEGIN:STANDARD
TZOFFSETFROM:-0400
TZOFFSETTO:-0500
TZNAME:EST
DTSTART:20231105T060000
END:STANDARD
BEGIN:DAYLIGHT
TZOFFSETFROM:-0500
TZOFFSETTO:-0400
TZNAME:EDT
DTSTART:20240310T070000
END:DAYLIGHT
BEGIN:STANDARD
TZOFFSETFROM:-0400
TZOFFSETTO:-0500
TZNAME:EST
DTSTART:20241103T060000
END:STANDARD
BEGIN:DAYLIGHT
TZOFFSETFROM:-0500
TZOFFSETTO:-0400
TZNAME:EDT
DTSTART:20250309T070000
END:DAYLIGHT
BEGIN:STANDARD
TZOFFSETFROM:-0400
TZOFFSETTO:-0500
TZNAME:EST
DTSTART:20251102T060000
END:STANDARD
END:VTIMEZONE
BEGIN:VEVENT
DTSTART;TZID=America/New_York:20240101T080000
DTEND;TZID=America/New_York:20240101T180000
DTSTAMP:20260421T161103
CREATED:20231117T174156Z
LAST-MODIFIED:20240112T161241Z
UID:5742-1704096000-1704132000@enzo-itl.com
SUMMARY:New Year's at ENZO
DESCRIPTION:More details coming soon! \n \n 
URL:https://enzo-itl.com/experience/new-years-at-enzo/
LOCATION:ENZO\, 300 Trilith Parkway\, Suite 230\, Fayetteville\, GA\, 30214\, United States
CATEGORIES:Special
END:VEVENT
END:VCALENDAR